BEGIN:VCALENDAR
VERSION:2.0
PRODID:-//ChamberMaster//Event Calendar 2.0//EN
METHOD:PUBLISH
X-PUBLISHED-TTL:P3D
REFRESH-INTERVAL:P3D
CALSCALE:GREGORIAN
BEGIN:VEVENT
DTSTART:20200601T170000Z
DTEND:20200601T180000Z
X-MICROSOFT-CDO-ALLDAYEVENT:FALSE
SUMMARY:USMCA: Qualifying Your Goods Part 1 Presented by US Commercial Service
DESCRIPTION:USMCA Part 2: Qualifying Your Goods\n\n\n\nOverview\n\nStarting July 1\, 2020\, the USMCA Free Trade Agreement goes into effect. If your goods qualify for the USMCA\, then they may be exempt from Canadian and Mexican duties.\n\n\n\nObjectives\n\nLearn how to qualify your goods\n\n\n\nEvent Information\n\n	new changes to the agreement\n	steps to qualify your goods using the rules of origin\n	how to qualify origin using a workshop example
X-ALT-DESC;FMTTYPE=text/html:<u><strong><span style="font-size:16px\;">USMCA Part 2: Qualifying Your Goods</span><br />\n<br />\nOverview</strong></u><br />\nStarting July 1\, 2020\, the USMCA Free Trade Agreement goes into effect. If your goods qualify for the USMCA\, then they may be exempt from Canadian and Mexican duties.<br />\n<br />\n<u><strong>Objectives</strong></u><br />\nLearn how to qualify your goods<br />\n<br />\n<u><strong>Event Information</strong></u>\n<ul>\n	<li>new changes to the agreement</li>\n	<li>steps to qualify your goods using the rules of origin</li>\n	<li>how to qualify origin using a workshop example</li>\n</ul>\n
LOCATION:This webinar is hosted by our trade partner\, the US Commercial Service.
UID:e.9258.815
SEQUENCE:3
DTSTAMP:20260424T203658Z
URL:https://business.wtcky.org/events/details/usmca-qualifying-your-goods-part-1-presented-by-us-commercial-service-815
END:VEVENT

END:VCALENDAR
