BEGIN:VCALENDAR
VERSION:2.0
PRODID:-//ChamberMaster//Event Calendar 2.0//EN
METHOD:PUBLISH
X-PUBLISHED-TTL:P3D
REFRESH-INTERVAL:P3D
CALSCALE:GREGORIAN
BEGIN:VEVENT
DTSTART:20200603T170000Z
DTEND:20200603T180000Z
X-MICROSOFT-CDO-ALLDAYEVENT:FALSE
SUMMARY:USMCA: Documenting Origin Part 2 Presented by US Commercial Service
DESCRIPTION:USMCA Part 2: Documenting Origin\n\n\n\nOverview\n\nStarting July 1\, 2020\, the USMCA Free Trade Agreement goes into effect. If your goods qualify for the USMCA\, then they may be exempt from Canadian and Mexican duties.\n\n\n\nObjectives\n\nLearn how to properly declare goods\n\n\n\nEvent Information\n\n	The data elements required on the certificate of origin\n	What format the certificate of origin may be in\n	What supporting documentation you will need from your suppliers\n\n\n\nPlease read the following information carefully\n\n\n	The US Commercial Service requires event registrants to accept specific terms and conditiond and review products standards\n	Please read the Privacy Act Notice
X-ALT-DESC;FMTTYPE=text/html:<u><strong><span style="font-size:16px\;">USMCA Part 2: Documenting Origin</span><br />\n<br />\nOverview</strong></u><br />\nStarting July 1\, 2020\, the USMCA Free Trade Agreement goes into effect. If your goods qualify for the USMCA\, then they may be exempt from Canadian and Mexican duties.<br />\n<br />\n<u><strong>Objectives</strong></u><br />\nLearn how to properly declare goods<br />\n<br />\n<u><strong>Event Information</strong></u>\n<ul>\n	<li>The data elements required on the certificate of origin</li>\n	<li>What format the certificate of origin may be in</li>\n	<li>What supporting documentation you will need from your suppliers</li>\n</ul>\n<br />\n<u><strong>Please read the following information carefully</strong></u>\n\n<ul>\n	<li>The US Commercial Service requires event registrants to accept specific terms and conditiond and review products standards</li>\n	<li>Please read the <a href="https://emenuapps.ita.doc.gov/ePublic/Privacy_Act_Notice.htm">Privacy Act Notice</a></li>\n</ul>\n
LOCATION:This webinar is hosted by our trade partner\, U.S. Commercial Service.
UID:e.9258.814
SEQUENCE:3
DTSTAMP:20260424T203815Z
URL:https://business.wtcky.org/events/details/usmca-documenting-origin-part-2-presented-by-us-commercial-service-814
END:VEVENT

END:VCALENDAR
