BEGIN:VCALENDAR
VERSION:2.0
PRODID:-//ChamberMaster//Event Calendar 2.0//EN
METHOD:PUBLISH
X-PUBLISHED-TTL:P3D
REFRESH-INTERVAL:P3D
CALSCALE:GREGORIAN
BEGIN:VEVENT
DTSTART:20200723T150000Z
DTEND:20200723T153000Z
X-MICROSOFT-CDO-ALLDAYEVENT:FALSE
SUMMARY:Using Science and Predictive Analytics to hire stronger salespeople- Hosted by World Trade Center Orlando
DESCRIPTION:Have you ever hired a salesperson that didn't work out\, even though you were sure they would? Or do you need stronger salespeople to combat how difficult selling has become in 2020?\n\nIf you answered yes\, then this Webinar will provide you with the information to help you identify and select those very salespeople.\n\n \n\n"The Magic in the OMG Sales Candidate Assessment"\n\nHOSTED BY SALES EXPERT DAVE KURLAN\, Founder and CEO of Objective Management Group\n\nDave's predictive analytics is based upon 2 million sales professionals and has been awarded the #1 sales assessment 9 years in a row by Top Sales World.\n\nDave will lead you through a compelling 45-minute session on how the magic in OMG's Sales Candidate Assessment will put sales hiring problems in the rear view mirror.
X-ALT-DESC;FMTTYPE=text/html:<div background-color:="" class="kvgmc6g5 cxmmr5t8 oygrvhab hcukyx3x c1et5uql" color:="" font-size:="" style="overflow-wrap: break-word\; margin: 0px\; font-family: system-ui\, -apple-system\, system-ui\, " white-space:=""><span style="color:#000000\;">Have you ever hired a salesperson that didn&#39\;t work out\, even though you were sure they would? Or do you need stronger salespeople to combat how difficult selling has become in 2020?</span></div>\n\n<div background-color:="" class="o9v6fnle cxmmr5t8 oygrvhab hcukyx3x c1et5uql" color:="" font-size:="" style="overflow-wrap: break-word\; margin: 0.5em 0px 0px\; font-family: system-ui\, -apple-system\, system-ui\, " white-space:=""><span style="color:#000000\;">If you answered yes\, then this Webinar will provide you with the information to help you identify and select those very salespeople.</span><br />\n&nbsp\;</div>\n\n<div background-color:="" class="o9v6fnle cxmmr5t8 oygrvhab hcukyx3x c1et5uql" color:="" font-size:="" style="overflow-wrap: break-word\; margin: 0.5em 0px 0px\; font-family: system-ui\, -apple-system\, system-ui\, " white-space:=""><span style="color:#000000\;">&ldquo\;The Magic in the OMG Sales Candidate Assessment&rdquo\;</span></div>\n\n<div background-color:="" class="o9v6fnle cxmmr5t8 oygrvhab hcukyx3x c1et5uql" color:="" font-size:="" style="overflow-wrap: break-word\; margin: 0.5em 0px 0px\; font-family: system-ui\, -apple-system\, system-ui\, " white-space:=""><span style="color:#000000\;">HOSTED BY SALES EXPERT DAVE KURLAN\, Founder and CEO of Objective Management Group</span></div>\n\n<div background-color:="" class="o9v6fnle cxmmr5t8 oygrvhab hcukyx3x c1et5uql" color:="" font-size:="" style="overflow-wrap: break-word\; margin: 0.5em 0px 0px\; font-family: system-ui\, -apple-system\, system-ui\, " white-space:=""><span style="color:#000000\;">Dave&rsquo\;s predictive analytics is based upon 2 million sales professionals and has been awarded the #1 sales assessment 9 years in a row by Top Sales World.</span></div>\n\n<div background-color:="" class="o9v6fnle cxmmr5t8 oygrvhab hcukyx3x c1et5uql" color:="" font-size:="" style="overflow-wrap: break-word\; margin: 0.5em 0px 0px\; font-family: system-ui\, -apple-system\, system-ui\, " white-space:=""><span style="color:#000000\;">Dave will lead you through a compelling 45-minute session on how the magic in OMG&#39\;s Sales Candidate Assessment will put sales hiring problems in the rear view mirror.</span></div>\n
LOCATION:Webinar
UID:e.9258.834
SEQUENCE:3
DTSTAMP:20260424T192851Z
URL:https://business.wtcky.org/events/details/using-science-and-predictive-analytics-to-hire-stronger-salespeople-hosted-by-world-trade-center-orlando-834
END:VEVENT

END:VCALENDAR
