BEGIN:VCALENDAR
VERSION:2.0
PRODID:-//ChamberMaster//Event Calendar 2.0//EN
METHOD:PUBLISH
X-PUBLISHED-TTL:P3D
REFRESH-INTERVAL:P3D
CALSCALE:GREGORIAN
BEGIN:VEVENT
DTSTART:20200728T150000Z
DTEND:20200728T160000Z
X-MICROSOFT-CDO-ALLDAYEVENT:FALSE
SUMMARY:Understanding Kentucky's Target Markets: Automotive Industry
DESCRIPTION:Join the Kentucky Cabinet for Economic Development for the second installment of the new webinar series\, "Understanding Kentucky's Target Markets." The last Tuesday of each month\, we'll gather virtually with our valued partners across the state to further explore Kentucky by region and dive into sector-specific information\, providing in-depth insight into the state and some of its largest and fastest-growing industries. For this webinar\, KCED Project Manager Brooklyn Leep will provide an overview of the automotive industry\, including trends\, successes\, challenges and recruiting strategies.
X-ALT-DESC;FMTTYPE=text/html:<p style="margin: 0px\; padding: 0px\; color: rgb(111\, 114\, 135)\; font-size: 16px\; line-height: 1.5rem\; font-family: &quot\;Neue Plak&quot\;\, -apple-system\, system-ui\, Roboto\, &quot\;Helvetica Neue&quot\;\, Helvetica\, Tahoma\, Arial\, sans-serif\; letter-spacing: 0.5px\;"><span style="font-size:12px\;">Join the Kentucky Cabinet for Economic Development for the second installment of the new webinar series\, &ldquo\;Understanding Kentucky&rsquo\;s Target Markets.&rdquo\; The last Tuesday of each month\, we&rsquo\;ll gather virtually with our valued partners across the state to further explore Kentucky by region and dive into sector-specific information\, providing in-depth insight into the state and some of its largest and fastest-growing industries. For this webinar\, KCED Project Manager Brooklyn Leep will provide an overview of the automotive industry\, including trends\, successes\, challenges and recruiting strategies.</span></p>\n\n<p style="margin: 0px\; padding: 10px 0px 0px\; color: rgb(111\, 114\, 135)\; font-size: 16px\; line-height: 1.5rem\; font-family: &quot\;Neue Plak&quot\;\, -apple-system\, system-ui\, Roboto\, &quot\;Helvetica Neue&quot\;\, Helvetica\, Tahoma\, Arial\, sans-serif\; letter-spacing: 0.5px\;">&nbsp\;</p>\n\n<div>&nbsp\;</div>\n
LOCATION:Those planning to view the webinar will be sent a Zoom link on Monday\, July 27. No username or password will be required to join. We hope you're able to tune in!
UID:e.9258.837
SEQUENCE:3
DTSTAMP:20260424T191604Z
URL:https://business.wtcky.org/events/details/understanding-kentucky-s-target-markets-automotive-industry-837
END:VEVENT

END:VCALENDAR
