BEGIN:VCALENDAR
VERSION:2.0
PRODID:-//ChamberMaster//Event Calendar 2.0//EN
METHOD:PUBLISH
X-PUBLISHED-TTL:P3D
REFRESH-INTERVAL:P3D
CALSCALE:GREGORIAN
BEGIN:VEVENT
DTSTART:20210520T150000Z
DTEND:20210520T160000Z
X-MICROSOFT-CDO-ALLDAYEVENT:FALSE
SUMMARY:Opportunities with the U.S. Trade and Development Agency
DESCRIPTION:Join World Trade Center Savannah (WTCSav) for a webinar to learn about working with the U.S. Trade and Development Agency (USTDA) and the emerging market business opportunities it creates for American firms in the energy\, transportation\, healthcare\, agribusiness and information and communications technology sectors.\n\nU.S. exporters\, consulting companies\, overseas project developers and anyone interested in how USTDA creates U.S. jobs through exports should attend. USTDA boasts an astonishing return of $112 in exports resulting from every $1 invested in their programming. Learn how they do it and how you can work with them.
X-ALT-DESC;FMTTYPE=text/html:<p style="box-sizing: border-box\; margin: 0px\; padding: 10px 0px\; color: rgb(66\, 67\, 66)\; font-family: &quot\;Open Sans&quot\;\, sans-serif\; font-size: 14px\; background-color: rgb(255\, 255\, 255)\;">Join World Trade Center Savannah (WTCSav) for a webinar to learn about working with the U.S. Trade and Development Agency (USTDA) and the emerging market business opportunities it creates for American firms in the energy\, transportation\, healthcare\, agribusiness and information and communications technology sectors.</p>\n\n<p style="box-sizing: border-box\; margin: 0px\; padding: 10px 0px\; color: rgb(66\, 67\, 66)\; font-family: &quot\;Open Sans&quot\;\, sans-serif\; font-size: 14px\; background-color: rgb(255\, 255\, 255)\;">U.S. exporters\, consulting companies\, overseas project developers and anyone interested in how USTDA creates U.S. jobs through exports should attend. USTDA boasts an astonishing return of $112 in exports resulting from every $1 invested in their programming. Learn how they do it and how you can work with them.</p>\n
LOCATION:This event is hosted by World Trade Center Savannah. To register\, click HERE
UID:e.9258.903
SEQUENCE:3
DTSTAMP:20260424T001007Z
URL:https://business.wtcky.org/events/details/opportunities-with-the-u-s-trade-and-development-agency-903
END:VEVENT

END:VCALENDAR
