BEGIN:VCALENDAR
VERSION:2.0
PRODID:-//ChamberMaster//Event Calendar 2.0//EN
METHOD:PUBLISH
X-PUBLISHED-TTL:P3D
REFRESH-INTERVAL:P3D
CALSCALE:GREGORIAN
BEGIN:VEVENT
DTSTART:20200818T143000Z
DTEND:20200818T153000Z
X-MICROSOFT-CDO-ALLDAYEVENT:FALSE
SUMMARY:No-Cost services to alleviate COVID 19 Impacts on Manufacturing & Logistics industry
DESCRIPTION:Advantage Kentucky Alliance is the Commonwealth's official representative of the Manufacturing Extension Partnership (MEP)\, National Network  supported by the U.S. Department of Commerce National Institute of Standards and Technology (NIST). The MEP National Network  is a unique public-private partnership that delivers comprehensive\, proven solutions to U.S. manufacturers\, fueling growth and advancing U.S. manufacturing.\n\n \n\nRecently awarded federal funding through the CARES Act\, Advantage Kentucky Alliance is partnering with the Advanced Manufacturing & Logistics Network (AML) to reach small-medium sized companies to help identify problems and find solutions within the industry. This virtual program will empower you with information on how to access and leverage a variety of no-cost services aimed at alleviating COVID-19 impacts within the manufacturing & logistics industry. Services include\, but are not limited to\, reopening audits\, health & safety gap analysis\, supply chain assessment and sourcing reports\, and video development to highlight your company's strengths and services.\n\n Join us to learn more about these no-cost services and the benefits to your company\, presented by Scott Broughton with AKA.
X-ALT-DESC;FMTTYPE=text/html:<div><span style="font-size:12px\;"><span style="font-family:arial\;"><span style="box-sizing: border-box\;">Advantage Kentucky Alliance is the Commonwealth&rsquo\;s official representative of the Manufacturing Extension Partnership (MEP)\, National Network&trade\; supported by the U.S. Department of Commerce National Institute of Standards and Technology (NIST). The MEP National Network&trade\; is a unique public-private partnership that delivers comprehensive\, proven solutions to U.S. manufacturers\, fueling growth and advancing U.S. manufacturing.</span></span></span><br style="box-sizing: border-box\;" />\n&nbsp\;</div>\n\n<p style="box-sizing: border-box\; margin-top: 0px\; color: rgb(34\, 34\, 34)\; font-family: proxima-nova\, -apple-system\, system-ui\, sans-serif\; font-size: 16px\;"><span style="font-size:12px\;"><span style="font-family:arial\;"><span style="box-sizing: border-box\;">Recently awarded federal funding through the CARES Act\, Advantage Kentucky Alliance is partnering with the Advanced Manufacturing &amp\; Logistics Network (AML) to reach small-medium sized companies to help identify problems and find solutions within the industry. This virtual program will empower you with information on how to access and leverage a variety of no-cost services aimed at alleviating COVID-19 impacts within the manufacturing &amp\; logistics industry. Services include\, but are not limited to\, reopening audits\, health &amp\; safety gap analysis\, supply chain assessment and sourcing reports\, and video development to highlight your company&rsquo\;s strengths and services.</span></span></span></p>\n\n<p style="box-sizing: border-box\; margin-top: 0px\; color: rgb(34\, 34\, 34)\; font-family: proxima-nova\, -apple-system\, system-ui\, sans-serif\; font-size: 16px\;"><span style="font-size:12px\;"><span style="font-family:arial\;"><span style="box-sizing: border-box\;">&nbsp\;Join us to learn more about these no-cost services and the benefits to your company\, presented by Scott Broughton with AKA.</span></span></span></p>\n
LOCATION:
UID:e.9258.839
SEQUENCE:3
DTSTAMP:20260424T175450Z
URL:https://business.wtcky.org/events/details/no-cost-services-to-alleviate-covid-19-impacts-on-manufacturing-logistics-industry-839
END:VEVENT

END:VCALENDAR
