BEGIN:VCALENDAR
VERSION:2.0
PRODID:-//ChamberMaster//Event Calendar 2.0//EN
METHOD:PUBLISH
X-PUBLISHED-TTL:P3D
REFRESH-INTERVAL:P3D
CALSCALE:GREGORIAN
BEGIN:VEVENT
DTSTART:20200820T180000Z
DTEND:20200820T190000Z
X-MICROSOFT-CDO-ALLDAYEVENT:FALSE
SUMMARY:Market Research Skills - Rural Export Center
DESCRIPTION:Market research does not have to be expensive or difficult. There are free\, publicly available\, easy to use tools to help you begin your market entry strategy. Attend this webinar to learn about:\n\n	Researching your industry and worldwide trade flows\n	Common export compliance cautions\n	Free market intelligence websites\n	Find out where to go for more in-depth market research
X-ALT-DESC;FMTTYPE=text/html:<span style="font-family:arial\,sans-serif\;"><span style="font-size:10pt\;">Market research does not have to be expensive or difficult. There are free\, publicly available\, easy to use tools to help you begin your market entry strategy. Attend this webinar to learn about:</span></span>\n<ul>\n	<li style="margin:0px 0px 0px 15px\;"><span style="font-family:arial\,sans-serif\;"><span style="font-size:10pt\;">Researching your industry and worldwide trade flows</span></span></li>\n	<li style="margin:0px 0px 0px 15px\;"><span style="font-family:arial\,sans-serif\;"><span style="font-size:10pt\;">Common export compliance cautions</span></span></li>\n	<li style="margin:0px 0px 0px 15px\;"><span style="font-family:arial\,sans-serif\;"><span style="font-size:10pt\;">Free market intelligence websites</span></span></li>\n	<li style="margin:0px 0px 0px 15px\;"><span style="font-family:arial\,sans-serif\;"><span style="font-size:10pt\;">Find out where to go for more in-depth market research&nbsp\;</span></span></li>\n</ul>\n
LOCATION:Virtual - Webex
UID:e.9258.855
SEQUENCE:3
DTSTAMP:20260424T174453Z
URL:https://business.wtcky.org/events/details/market-research-skills-rural-export-center-855
END:VEVENT

END:VCALENDAR
