BEGIN:VCALENDAR
VERSION:2.0
PRODID:-//ChamberMaster//Event Calendar 2.0//EN
METHOD:PUBLISH
X-PUBLISHED-TTL:P3D
REFRESH-INTERVAL:P3D
CALSCALE:GREGORIAN
BEGIN:VEVENT
DTSTART:20200827T150000Z
DTEND:20200827T153000Z
X-MICROSOFT-CDO-ALLDAYEVENT:FALSE
SUMMARY:Manufacturing in Sweden\, Denmark\, UK Markets - US Commercial Service
DESCRIPTION:Intelligent Manufacturing in Europe Coffee Chat Series - Sweden\, Denmark\, UK Markets\n\n\n\nJoin us for a virtual coffee featuring our U.S. Embassy colleagues from Sweden\, Denmark and UK. The 30-minute informal conversation with our industry experts will open with current market conditions and questions.\n\n\n\nObjectives\n\nMarket update and discussion from seasoned staff on the ground\n\n\n\nEvent Information\n\n	Moderator - Pam Plagens\, Advanced Manufacturing Team Leader\, joined by\,\n	Tuule Ahlstrom\, Commercial Specialist\, U.S. Embassy - Stockholm\, Sweden\n	Patrycja Dahl\, Commercial Specialist\, U.S. Embassy - Copenhagen\, Denmark\n	Kristina Schaferova\, Commercial Specialist\, U.S. Embassy\, London\, UK and Jen Levine - Desk Officer
X-ALT-DESC;FMTTYPE=text/html:<u><strong><span style="font-size: 16px\;">Intelligent Manufacturing in Europe Coffee Chat Series - Sweden\, Denmark\, UK Markets</span></strong></u><br />\n<br />\nJoin us for a virtual coffee featuring our U.S. Embassy colleagues from Sweden\, Denmark and UK. The 30-minute informal conversation with our industry experts will open with current market conditions and questions.<br />\n<br />\n<u><strong>Objectives</strong></u><br />\nMarket update and discussion from seasoned staff on the ground<br />\n<br />\n<u><strong>Event Information</strong></u>\n<ul>\n	<li>Moderator - Pam Plagens\, Advanced Manufacturing Team Leader\, joined by\,</li>\n	<li>Tuule Ahlstrom\, Commercial Specialist\, U.S. Embassy - Stockholm\, Sweden</li>\n	<li>Patrycja Dahl\, Commercial Specialist\, U.S. Embassy - Copenhagen\, Denmark</li>\n	<li>Kristina Schaferova\, Commercial Specialist\, U.S. Embassy\, London\, UK and Jen Levine - Desk Officer</li>\n</ul>\n
LOCATION:This webinar is hosted by our trade partner\, the US Commercial Service.
UID:e.9258.830
SEQUENCE:3
DTSTAMP:20260424T181737Z
URL:https://business.wtcky.org/events/details/manufacturing-in-sweden-denmark-uk-markets-us-commercial-service-830
END:VEVENT

END:VCALENDAR
