BEGIN:VCALENDAR
VERSION:2.0
PRODID:-//ChamberMaster//Event Calendar 2.0//EN
METHOD:PUBLISH
X-PUBLISHED-TTL:P3D
REFRESH-INTERVAL:P3D
CALSCALE:GREGORIAN
BEGIN:VEVENT
DTSTART:20200716T150000Z
DTEND:20200716T153000Z
X-MICROSOFT-CDO-ALLDAYEVENT:FALSE
SUMMARY:Manufacturing in Poland\, Hungary\, Slovakia\, Czech Republic - US Commercial Service
DESCRIPTION:Intelligent Manufacturing in Europe Coffee Chat Series - Poland\, Hungary\, Slovakia\, Czech Republic\n\n\n\nJoin us for a virtual coffee featuring our U.S. Embassy colleagues from Poland\, Hungary\, Slovakia and Czeck Republic. The 30-minute informal conversation with our industry experts will open with current market conditions and questions.\n\n\n\nObjectives\n\nMarket update and discussion from seasoned staff on the ground.\n\n\n\nEvent Information\n\n	Moderator   Pam Plagens\, Advanced Manufacturing Team Leader\, joined by\,\n	Joanna Bereza - Commercial Specialist\, U.S. Embassy - Warsaw\, Poland\n	Agnes Armour - Commercial Specialist\, U.S. Embassy - Budapest\, Hungary\n	Zdenek Svoboda\, Commercial Specialist\, U.S. Embassy - Czech Republic\;\n	Marian Volent\, Commercial Specialist\, U.S. Embassy - Slovakia & Desk Officer Aileen Elwell
X-ALT-DESC;FMTTYPE=text/html:<u><strong><span style="font-size: 16px\;">Intelligent Manufacturing in Europe Coffee Chat Series - Poland\, Hungary\, Slovakia\, Czech Republic</span></strong></u><br />\n<br />\nJoin us for a virtual coffee featuring our U.S. Embassy colleagues from Poland\, Hungary\, Slovakia and Czeck Republic. The 30-minute informal conversation with our industry experts will open with current market conditions and questions.<br />\n<br />\n<u><strong>Objectives</strong></u><br />\nMarket update and discussion from seasoned staff on the ground.<br />\n<br />\n<u><strong>Event Information</strong></u>\n<ul>\n	<li>Moderator &ndash\; Pam Plagens\, Advanced Manufacturing Team Leader\, joined by\,</li>\n	<li>Joanna Bereza - Commercial Specialist\, U.S. Embassy - Warsaw\, Poland</li>\n	<li>Agnes Armour - Commercial Specialist\, U.S. Embassy - Budapest\, Hungary</li>\n	<li>Zdenek Svoboda\, Commercial Specialist\, U.S. Embassy - Czech Republic\;</li>\n	<li>Marian Volent\, Commercial Specialist\, U.S. Embassy - Slovakia &amp\; Desk Officer Aileen Elwell</li>\n</ul>\n
LOCATION:This webinar is hosted by our trade partner\, the US Commercial Service.
UID:e.9258.827
SEQUENCE:3
DTSTAMP:20260424T191951Z
URL:https://business.wtcky.org/events/details/manufacturing-in-poland-hungary-slovakia-czech-republic-us-commercial-service-827
END:VEVENT

END:VCALENDAR
