BEGIN:VCALENDAR
VERSION:2.0
PRODID:-//ChamberMaster//Event Calendar 2.0//EN
METHOD:PUBLISH
X-PUBLISHED-TTL:P3D
REFRESH-INTERVAL:P3D
CALSCALE:GREGORIAN
BEGIN:VEVENT
DTSTART:20200813T150000Z
DTEND:20200813T153000Z
X-MICROSOFT-CDO-ALLDAYEVENT:FALSE
SUMMARY:Manufacturing in Italy & Turkey Markets - US Commercial Service
DESCRIPTION:Intelligent Manufacturing in Europe Coffee Chat Series - Italy & Turkey\n\n\n\nJoin us for a virtual coffee featuring our U.S. Embassy colleagues from Italy and Turkey. The 30-minute informal conversation with our industry experts will open with current market conditions and questions.\n\n\n\nObjectives\n\nMarket update and discussion from seasoned staff on the ground\n\n\n\nEvent Information\n\n	Moderator   Pam Plagens\, Advanced Manufacturing Team Leader\, joined by\,\n	Federico Bevini\, Commerical Specialist\, U.S. Embassy - Rome\, Italy\n	Perim Akguner\, Commercial Specialist and Max Demirdoven\, Commercial Specialist\, U.S. Embassy - Ankara\,Turkey\n	Eli Corso-Phinney - Desk Officer
X-ALT-DESC;FMTTYPE=text/html:<u><strong><span style="font-size: 16px\;">Intelligent Manufacturing in Europe Coffee Chat Series - Italy &amp\; Turkey</span></strong></u><br />\n<br />\nJoin us for a virtual coffee featuring our U.S. Embassy colleagues from Italy and Turkey. The 30-minute informal conversation with our industry experts will open with current market conditions and questions.<br />\n<br />\n<u><strong>Objectives</strong></u><br />\nMarket update and discussion from seasoned staff on the ground<br />\n<br />\n<u><strong>Event Information</strong></u>\n<ul>\n	<li>Moderator &ndash\; Pam Plagens\, Advanced Manufacturing Team Leader\, joined by\,</li>\n	<li>Federico Bevini\, Commerical Specialist\, U.S. Embassy - Rome\, Italy</li>\n	<li>Perim Akguner\, Commercial Specialist and Max Demirdoven\, Commercial Specialist\, U.S. Embassy - Ankara\,Turkey</li>\n	<li>Eli Corso-Phinney - Desk Officer</li>\n</ul>\n
LOCATION:This webinar is hosted by our trade partner\, the US Commercial Service.
UID:e.9258.829
SEQUENCE:3
DTSTAMP:20260424T182051Z
URL:https://business.wtcky.org/events/details/manufacturing-in-italy-turkey-markets-us-commercial-service-829
END:VEVENT

END:VCALENDAR
