BEGIN:VCALENDAR
VERSION:2.0
PRODID:-//ChamberMaster//Event Calendar 2.0//EN
METHOD:PUBLISH
X-PUBLISHED-TTL:P3D
REFRESH-INTERVAL:P3D
CALSCALE:GREGORIAN
BEGIN:VEVENT
DTSTART:20210427T150000Z
DTEND:20210427T160000Z
X-MICROSOFT-CDO-ALLDAYEVENT:FALSE
SUMMARY:Managing Export Sales and Business Development During the Pandemic
DESCRIPTION:The COVID-19 Pandemic has changed the way we approach export sales. However\, there are still numerous opportunities that can be managed successfully. This webinar will review the opportunities\, challenges\, and processes to have a robust export operation in 2021.\n\nSpecific Topics:\n\n\n	Specific Challenges\n	Growing product\n	Areas for USA Export\n	Growth Areas for Export by Region & Country\n	Case Study\n	Resource Development\n	Government Programs\n	Export Supply Chain\, Logistics & Trade Compliance\n	Utilizing Technology\n\n\nFind out more about Thomas Cook\, special guest\, and speaker.\n\nThis webinar will include time for question and answer. Additionally\, participants may send questions ahead of the presentation to asmoak@wtcsavannah.org.
X-ALT-DESC;FMTTYPE=text/html:<p style="box-sizing: border-box\; margin: 0px\; padding: 10px 0px\; caret-color: rgb(66\, 67\, 66)\; color: rgb(66\, 67\, 66)\; font-family: &quot\;Open Sans&quot\;\, sans-serif\; font-size: 14px\;">The COVID-19 Pandemic has changed the way we approach export sales. However\, there are still numerous opportunities that can be managed successfully. This webinar will review the opportunities\, challenges\, and processes to have a robust export operation in 2021.</p>\n\n<p style="box-sizing: border-box\; margin: 0px\; padding: 10px 0px\; caret-color: rgb(66\, 67\, 66)\; color: rgb(66\, 67\, 66)\; font-family: &quot\;Open Sans&quot\;\, sans-serif\; font-size: 14px\;">Specific Topics:</p>\n\n<ul>\n	<li style="box-sizing: border-box\; padding-bottom: 10px\;">Specific Challenges</li>\n	<li style="box-sizing: border-box\; padding-bottom: 10px\;">Growing product</li>\n	<li style="box-sizing: border-box\; padding-bottom: 10px\;">Areas for USA Export</li>\n	<li style="box-sizing: border-box\; padding-bottom: 10px\;">Growth Areas for Export by Region &amp\; Country</li>\n	<li style="box-sizing: border-box\; padding-bottom: 10px\;">Case Study</li>\n	<li style="box-sizing: border-box\; padding-bottom: 10px\;">Resource Development</li>\n	<li style="box-sizing: border-box\; padding-bottom: 10px\;">Government Programs</li>\n	<li style="box-sizing: border-box\; padding-bottom: 10px\;">Export Supply Chain\, Logistics &amp\; Trade Compliance</li>\n	<li style="box-sizing: border-box\; padding-bottom: 10px\;">Utilizing Technology</li>\n</ul>\n\n<div style="box-sizing: border-box\; padding-bottom: 10px\;">Find out more about <a href="https://chambermaster.blob.core.windows.net/userfiles/UserFiles/chambers/9258/File/Bios/ThomasCook_Bio.pdf">Thomas Cook</a>\,&nbsp\;special guest\, and speaker.</div>\n\n<p style="box-sizing: border-box\; margin: 0px\; padding: 10px 0px\; caret-color: rgb(66\, 67\, 66)\; color: rgb(66\, 67\, 66)\; font-family: &quot\;Open Sans&quot\;\, sans-serif\; font-size: 14px\;">This webinar will include time for question and answer. Additionally\, participants may send questions ahead of the presentation to&nbsp\;<font color="#ed9e5a"><span style="box-sizing: border-box\; transition: border 0.25s ease-in-out\, color 0.25s ease-in-out\, background-color 0.25s ease-in-out\;"><a href="mailto:asmoak@wtcsavannah.org">asmoak@wtcsavannah.org</a></span></font>.</p>\n
LOCATION:Webinar To register\, please click here
UID:e.9258.874
SEQUENCE:3
DTSTAMP:20260424T015821Z
URL:https://business.wtcky.org/events/details/managing-export-sales-and-business-development-during-the-pandemic-874
END:VEVENT

END:VCALENDAR
