BEGIN:VCALENDAR
VERSION:2.0
PRODID:-//ChamberMaster//Event Calendar 2.0//EN
METHOD:PUBLISH
X-PUBLISHED-TTL:P3D
REFRESH-INTERVAL:P3D
CALSCALE:GREGORIAN
BEGIN:VEVENT
DTSTART:20200730T143000Z
DTEND:20200730T164500Z
X-MICROSOFT-CDO-ALLDAYEVENT:FALSE
SUMMARY:Linking Agriculture for Networking & Development: Mammoth Cave-Green River Virtual Forum
DESCRIPTION:The Kentucky Department of Agriculture and the Kentucky Association of Manufacturers have aligned to leverage agricultural resources of the Commonwealth with the state's robust manufacturing industry.  This forum is intended to bolster existing collaboration between agriculture and manufacturing to develop and expand upon the existing supply chain for agricultural product to the manufacturing sector.  These opportunities will be highlighted in a series of regional meetings strategically selected to focus on the ability to best blend synergies within each region.  The LAND (Linking Agriculture for Networking & Development) forums are intended for manufacturers\, agricultural leaders\, economic development professionals\, local and state officials\, academia\, and other stakeholders.\n\n\n\nThis event is for the Mammoth Cave-Green River Region.
X-ALT-DESC;FMTTYPE=text/html:<div class="wpb_text_column wpb_content_element " style="box-sizing: border-box\; margin-bottom: 35px\; color: rgb(119\, 119\, 119)\; font-family: Muli\, sans-serif\; font-size: 14px\;">\n<div class="wpb_wrapper" style="box-sizing: border-box\; margin-bottom: 0px\;">\n<div class="mec-single-event-description mec-events-content" style="box-sizing: border-box\;">The Kentucky Department of Agriculture and the Kentucky Association of Manufacturers have aligned to leverage agricultural resources of the Commonwealth with the state&rsquo\;s robust manufacturing industry.&nbsp\; This forum is intended to bolster existing collaboration between agriculture and manufacturing to develop and expand upon the existing supply chain for agricultural product to the manufacturing sector.&nbsp\; These opportunities will be highlighted in a series of regional meetings strategically selected to focus on the ability to best blend synergies within each region.&nbsp\; The LAND (Linking Agriculture for Networking &amp\; Development) forums are intended for manufacturers\, agricultural leaders\, economic development professionals\, local and state officials\, academia\, and other stakeholders.<br />\n<br />\nThis event is for the Mammoth Cave-Green River Region.</div>\n</div>\n</div>\n
LOCATION:Virtual Forum. Links and login information for the virtual events will be distributed to registrants via email before the event.
UID:e.9258.835
SEQUENCE:3
DTSTAMP:20260424T190101Z
URL:https://business.wtcky.org/events/details/linking-agriculture-for-networking-development-mammoth-cave-green-river-virtual-forum-835
END:VEVENT

END:VCALENDAR
