BEGIN:VCALENDAR
VERSION:2.0
PRODID:-//ChamberMaster//Event Calendar 2.0//EN
METHOD:PUBLISH
X-PUBLISHED-TTL:P3D
REFRESH-INTERVAL:P3D
CALSCALE:GREGORIAN
BEGIN:VEVENT
DTSTART:20180411T130000Z
DTEND:20180411T210000Z
X-MICROSOFT-CDO-ALLDAYEVENT:FALSE
SUMMARY:International Legal Considerations\, Tax\, Finance & Currencies
DESCRIPTION:BACKGROUND: The International Trade Certification (ITC) was developed by the WTC-KY to provide the foundation for effective and efficient management of a company's international trade operations by providing information that is both current and relevant.\n\n\n\nThe program is intended for business professionals in the following roles:\n\n\n	International sales\n	International marketing\n	International logistics\n	International trade compliance\n	U.S. Customs compliance\n	Credit management\, accounting\, finance \n\n\nThe certification program covers a wide variety of topics that include the following topics:\n\n\n	Market Entry Strategies and Global Market Research\n	International Legal Considerations\n	International Payment and Export Financing\n	Import/Export Compliance and Logistics       \n\n\nBecome your company's international expert\, grow your company's sales\, and ensure your company is utilizing best practices in international trade operations.\n\n \n\nParticipants who complete all three courses and score 70% or higher on an on-line examination will receive a certificate of Global Commerce Specialist. \n\n\n\nRESULTS: The ITCP has an alumni network of over 300 graduates representing 150+ companies and organizations to date. These alumni earn his/her certificate of "International Commerce Specialist" after three rigorous days of class time and individual testing. The International Commerce Specialist certificate is accredited by the National Customs Brokers and Freight Forwarder's Association of America (NCBFAA).\n\n\n\nFor the course syllabus\, click here.\n\n\n\nDaily Agenda:\n\n\n	Day One: Feb 14\, 2018   International Market Entry Strategies & Research\, Global Branding & Positioning\, Understanding International Business Culture & International Tax\n	Day Two: March 14\, 2018   International Logistics\, Product Classification\, Import Compliance/Export Compliance\n	Day Three: April 11\, 2018   International Payments\, Currency\, Finance & Legal Considerations \n\n\n*The certification is an approved STEP Grant reimbursement.  If you have not applied for the STEP (State Trade and Export Promotion)\, please visit www.kyexports.com for more information.
X-ALT-DESC;FMTTYPE=text/html:<div><br />\n<span style="font-size:14px\;"><strong>BACKGROUND:&nbsp\;</strong>The International Trade Certification (ITC) was developed by the WTC-KY to provide the foundation for effective and efficient management of a company&#39\;s international trade operations by providing information that is both current and relevant.</span><br />\n<br />\n<strong>T<span style="font-size:14px\;">he program is intended for business professionals in the following roles:</span></strong></div>\n\n<ul>\n	<li><span style="font-size:14px\;">International sales</span></li>\n	<li><span style="font-size:14px\;">International marketing</span></li>\n	<li><span style="font-size:14px\;">International logistics</span></li>\n	<li><span style="font-size:14px\;">International trade compliance</span></li>\n	<li><span style="font-size:14px\;">U.S. Customs compliance</span></li>\n	<li><span style="font-size:14px\;">Credit management\, accounting\, finance&nbsp\;</span></li>\n</ul>\n\n<div><span style="font-size:14px\;"><strong>The certification program covers a wide variety of topics that include the following topics:</strong></span></div>\n\n<ul>\n	<li><span style="font-size:14px\;">Market Entry Strategies and Global Market Research</span></li>\n	<li><span style="color:#FF0000\;"><strong><span style="font-size:14px\;">International Legal Considerations</span></strong></span></li>\n	<li><span style="color:#FF0000\;"><strong><span style="font-size:14px\;">International Payment and Export Financing</span></strong></span></li>\n	<li><span style="font-size:14px\;">Import/Export Compliance and Logistics&nbsp\;&nbsp\;&nbsp\;&nbsp\;&nbsp\;&nbsp\;&nbsp\;</span></li>\n</ul>\n\n<div style="text-align: center\;"><span style="font-size:14px\;">Become your company&#39\;s international expert\, grow your company&#39\;s sales\, and ensure your company is utilizing best practices in international trade operations.<br />\n&nbsp\;<br />\nParticipants who complete all three courses and score 70% or higher on an on-line examination will receive a certificate of <strong>Global Commerce Specialist</strong>.&nbsp\;<br />\n<br />\n<strong>RESULTS</strong>:&nbsp\;The&nbsp\;ITCP&nbsp\;has an alumni network of over 300 graduates representing 150+ companies and organizations to date. These alumni earn his/her certificate of &ldquo\;International Commerce Specialist&rdquo\; after three rigorous days of class time and individual testing. The International Commerce Specialist certificate is accredited by the National Customs Brokers and Freight Forwarder&#39\;s Association of America (NCBFAA).<br />\n<br />\nFor the course syllabus\, <a href="http://96bda424cfcc34d9dd1a-0a7f10f87519dba22d2dbc6233a731e5.r41.cf2.rackcdn.com/worldtradecenter/2017_International_Trade_Certification_Program_Agenda.pdf">click here</a>.<br />\n<br />\n<strong>Daily Agenda:</strong></span></div>\n\n<ul>\n	<li style="text-align: center\;"><span style="font-size:14px\;"><strong>Day One: Feb 14\, 2018</strong>&nbsp\;&ndash\;&nbsp\;International Market Entry Strategies &amp\; Research\, Global Branding &amp\; Positioning\, Understanding International Business Culture &amp\; International Tax</span></li>\n	<li style="text-align: center\;"><span style="font-size:14px\;"><strong>Day Two: March 14\, 2018</strong>&nbsp\;&ndash\; International Logistics\, Product Classification\, Import Compliance/Export Compliance</span></li>\n	<li style="text-align: center\;"><span style="color:#FF0000\;"><span style="font-size:14px\;"><strong>Day Three: April 11\, 2018</strong>&nbsp\;&ndash\; International Payments\, Currency\, Finance &amp\; Legal Considerations&nbsp\;</span></span></li>\n</ul>\n\n<div style="text-align: center\;"><span style="font-size:14px\;"><em><strong>*The certification is an approved STEP Grant reimbursement. &nbsp\;If you have not applied for the STEP (State Trade and Export Promotion)\, please visit www.kyexports.com for more information</strong></em>.</span></div>\n
LOCATION:LBX Corporate Training Room 2004 Buck Ln\, Lexington\, KY 40511
UID:e.9258.686
SEQUENCE:3
DTSTAMP:20260422T201806Z
URL:https://business.wtcky.org/events/details/international-legal-considerations-tax-finance-currencies-686
END:VEVENT

END:VCALENDAR
