BEGIN:VCALENDAR
VERSION:2.0
PRODID:-//ChamberMaster//Event Calendar 2.0//EN
METHOD:PUBLISH
X-PUBLISHED-TTL:P3D
REFRESH-INTERVAL:P3D
CALSCALE:GREGORIAN
BEGIN:VEVENT
DTSTART:20170223T163000Z
DTEND:20170223T203000Z
X-MICROSOFT-CDO-ALLDAYEVENT:FALSE
SUMMARY:International Business Culture & Etiquette - Japan
DESCRIPTION:As global business continues to expand and bring everyone closer\, the critical element of a successful business outcome may be the appreciation and respect for regional\, country\, and cultural differences. Cultural diversity and requiring good intercultural communication is critical to securing business partners and closing business deals. In the International Business Etiquette and Culture Series\, participants will find a wealth of information and resources on international business etiquette and manners to utilize during their international travels and overseas assignments.\n\n\n\nIn support of our upcoming trade mission to Tokyo the focus for this program will be on Japan.\n\n\n\nJoin us to learn how you should conduct yourself in interacting with Japanese businesses and hear unique updates from local companies on how they have succeeded in the Japanese Market. \n\n\nPROGRAM AGENDA\n\n\n\n11:00 - Registration / Networking / Lunch\n\n\n\n11:30 - Welcome and Introductions\n\n\n	     Japan Trade and Business Mission Briefing\n\n\n12:00 - Presentation\n\nDavid Carpenter - Executive Director - Japan America Society of Kentucky \n\n                                                                                                            2:30 -  Panel Discussion - Doing Business in Japan    \n\n\n\n3:30 - Adjourn
X-ALT-DESC;FMTTYPE=text/html:<span style="font-size: 16px\;"><span style="font-family: arial\;">As global business continues to expand and bring everyone closer\, the critical element of a successful business outcome may be the appreciation and respect for regional\, country\, and cultural differences. Cultural diversity and requiring good intercultural communication is critical to securing business partners and closing business deals. In the International Business Etiquette and Culture Series\, participants will find a wealth of information and resources on international business etiquette and manners to utilize during their international travels and overseas assignments.<br />\n<br />\nIn support of our upcoming trade mission to Tokyo&nbsp\;the focus for this program will be on Japan.<br />\n<br />\nJoin us to learn how you should conduct yourself in interacting with Japanese businesses and hear unique updates from local companies on how they have succeeded in the Japanese Market.&nbsp\;</span></span>\n<p class="x_MsoNormal" style="margin: 0in 0in 0pt\; color: rgb(33\, 33\, 33)\; font-family: Calibri\, sans-serif\; font-size: 11pt\; background-color: rgb(255\, 255\, 255)\;"><br />\n<span style="font-size: 16px\;"><span style="font-family: arial\;"><strong><span style="padding: 0in\; border: 1pt windowtext\; border-image: none\;"><span style="color: rgb(33\, 33\, 33)\;">PROGRAM AGENDA</span></span></strong><br />\n<br />\n<strong style="border-radius: 0px\; text-align: inherit\; right: auto\; bottom: auto\; color: inherit\; text-transform: inherit\; line-height: inherit\; text-indent: inherit\; letter-spacing: inherit\; overflow: visible\; font-size: inherit\; font-style: inherit\; font-variant: inherit\; word-spacing: inherit\; float: none\; white-space: inherit\; visibility: inherit\; z-index: auto\; -ms-word-break: inherit\; -ms-word-wrap: inherit\; -ms-text-overflow: clip\; max-height: none\; max-width: none\; content: normal\; box-sizing: content-box\; empty-cells: show\; font-stretch: inherit\; opacity: 1\; box-shadow: none\; border-image-source: none\; border-image-slice: 100% 1 0\; border-image-repeat: stretch\; resize: none\; outline-offset: 0px\;"><span style="border-radius: 0px\; text-align: inherit\; right: auto\; bottom: auto\; text-transform: inherit\; text-indent: inherit\; letter-spacing: inherit\; overflow: visible\; font-style: inherit\; font-variant: inherit\; font-weight: inherit\; word-spacing: inherit\; white-space: inherit\; visibility: inherit\; z-index: auto\; -ms-word-break: inherit\; -ms-word-wrap: inherit\; -ms-text-overflow: clip\; max-height: none\; max-width: none\; content: normal\; box-sizing: content-box\; empty-cells: show\; font-stretch: inherit\; opacity: 1\; box-shadow: none\; border-image-source: none\; border-image-slice: 100% 1 0\; border-image-repeat: stretch\; resize: none\; outline-offset: 0px\;"><span style="color: inherit\;"><span style="padding: 0in\; border: 1pt windowtext\; border-image: none\;"><span style="color: rgb(33\, 33\, 33)\;">11:00 - Registration / Networking / Lunch<br />\n<br />\n11:30&nbsp\;- Welcome and Introductions</span></span></span></span></strong></span></span></p>\n\n<ul>\n	<li class="x_MsoNormal" style="margin: 0in 0in 0pt\; color: rgb(33\, 33\, 33)\; font-family: Calibri\, sans-serif\; font-size: 11pt\; background-color: rgb(255\, 255\, 255)\;">&nbsp\;&nbsp\;&nbsp\;&nbsp\;<span style="font-size: 16px\;"><span style="font-family: arial\;"><strong style="border-radius: 0px\; text-align: inherit\; right: auto\; bottom: auto\; color: inherit\; text-transform: inherit\; line-height: inherit\; text-indent: inherit\; letter-spacing: inherit\; overflow: visible\; font-size: inherit\; font-style: inherit\; font-variant: inherit\; word-spacing: inherit\; float: none\; white-space: inherit\; visibility: inherit\; z-index: auto\; -ms-word-break: inherit\; -ms-word-wrap: inherit\; -ms-text-overflow: clip\; max-height: none\; max-width: none\; content: normal\; box-sizing: content-box\; empty-cells: show\; font-stretch: inherit\; opacity: 1\; box-shadow: none\; border-image-source: none\; border-image-slice: 100% 1 0\; border-image-repeat: stretch\; resize: none\; outline-offset: 0px\;"><span style="border-radius: 0px\; text-align: inherit\; right: auto\; bottom: auto\; text-transform: inherit\; text-indent: inherit\; letter-spacing: inherit\; overflow: visible\; font-style: inherit\; font-variant: inherit\; font-weight: inherit\; word-spacing: inherit\; white-space: inherit\; visibility: inherit\; z-index: auto\; -ms-word-break: inherit\; -ms-word-wrap: inherit\; -ms-text-overflow: clip\; max-height: none\; max-width: none\; content: normal\; box-sizing: content-box\; empty-cells: show\; font-stretch: inherit\; opacity: 1\; box-shadow: none\; border-image-source: none\; border-image-slice: 100% 1 0\; border-image-repeat: stretch\; resize: none\; outline-offset: 0px\;"><span style="color: inherit\;"><span style="padding: 0in\; border: 1pt windowtext\; border-image: none\;"><span style="color: rgb(33\, 33\, 33)\;">&nbsp\;Japan&nbsp\;Trade and Business Mission Briefing</span></span></span></span></strong></span></span></li>\n</ul>\n\n<p class="x_MsoNormal" style="margin: 0in 0in 0pt\; color: rgb(33\, 33\, 33)\; font-family: Calibri\, sans-serif\; font-size: 11pt\; background-color: rgb(255\, 255\, 255)\;"><span style="font-size: 16px\;"><span style="font-family: arial\;"><strong><span style="padding: 0in\; border: 1pt windowtext\; border-image: none\;"><span style="color: rgb(33\, 33\, 33)\;">12:00&nbsp\;- Presentation</span></span></strong><br />\n<span style="border-radius: 0px\; text-align: inherit\; right: auto\; bottom: auto\; text-transform: inherit\; text-indent: inherit\; letter-spacing: inherit\; overflow: visible\; font-style: inherit\; font-variant: inherit\; font-weight: inherit\; word-spacing: inherit\; white-space: inherit\; visibility: inherit\; z-index: auto\; -ms-word-break: inherit\; -ms-word-wrap: inherit\; -ms-text-overflow: clip\; max-height: none\; max-width: none\; content: normal\; box-sizing: content-box\; empty-cells: show\; font-stretch: inherit\; opacity: 1\; box-shadow: none\; border-image-source: none\; border-image-slice: 100% 1 0\; border-image-repeat: stretch\; resize: none\; outline-offset: 0px\;"><span style="color: inherit\;"><span style="padding: 0in\; border: 1pt windowtext\; border-image: none\;"><span style="color: rgb(33\, 33\, 33)\;">David Carpenter - Executive Director - Japan America Society of Kentucky&nbsp\;</span></span></span></span><br />\n<span style="border-radius: 0px\; text-align: inherit\; right: auto\; bottom: auto\; text-transform: inherit\; text-indent: inherit\; letter-spacing: inherit\; overflow: visible\; font-style: inherit\; font-variant: inherit\; font-weight: inherit\; word-spacing: inherit\; white-space: inherit\; visibility: inherit\; z-index: auto\; -ms-word-break: inherit\; -ms-word-wrap: inherit\; -ms-text-overflow: clip\; max-height: none\; max-width: none\; content: normal\; box-sizing: content-box\; empty-cells: show\; font-stretch: inherit\; opacity: 1\; box-shadow: none\; border-image-source: none\; border-image-slice: 100% 1 0\; border-image-repeat: stretch\; resize: none\; outline-offset: 0px\;"><span style="color: inherit\;"><span style="padding: 0in\; border: 1pt windowtext\; border-image: none\;"><span style="color: rgb(33\, 33\, 33)\;">&nbsp\; &nbsp\; &nbsp\; &nbsp\; &nbsp\; &nbsp\; &nbsp\; &nbsp\; &nbsp\; &nbsp\; &nbsp\; &nbsp\; &nbsp\; &nbsp\; &nbsp\; &nbsp\; &nbsp\; &nbsp\; &nbsp\; &nbsp\; &nbsp\; &nbsp\; &nbsp\; &nbsp\; &nbsp\; &nbsp\; &nbsp\; &nbsp\; &nbsp\; &nbsp\; &nbsp\; &nbsp\; &nbsp\; &nbsp\; &nbsp\; &nbsp\; &nbsp\; &nbsp\; &nbsp\; &nbsp\; &nbsp\; &nbsp\; &nbsp\; &nbsp\; &nbsp\; &nbsp\; &nbsp\; &nbsp\; &nbsp\; &nbsp\; &nbsp\; &nbsp\; &nbsp\; &nbsp\; <strong>2:30 - </strong>&nbsp\;Panel Discussion - Doing Business in Japan&nbsp\; &nbsp\;</span></span></span></span>&nbsp\;<br />\n<br />\n<strong><span style="padding: 0in\; border: 1pt windowtext\; border-image: none\;"><span style="color: rgb(33\, 33\, 33)\;">3:30&nbsp\;-&nbsp\;</span></span></strong><span style="padding: 0in\; border: 1pt windowtext\; border-image: none\;"><span style="color: rgb(33\, 33\, 33)\;">Adjourn</span></span><br />\n&nbsp\;</span></span></p>\n
LOCATION:Frankfort\, KY Kentucky Chamber of Commerce 464 Chenault Road Frankfort\, KY
UID:e.9258.55
SEQUENCE:3
DTSTAMP:20260422T143329Z
URL:https://business.wtcky.org/events/details/international-business-culture-etiquette-japan-55
END:VEVENT

END:VCALENDAR
