BEGIN:VCALENDAR
VERSION:2.0
PRODID:-//ChamberMaster//Event Calendar 2.0//EN
METHOD:PUBLISH
X-PUBLISHED-TTL:P3D
REFRESH-INTERVAL:P3D
CALSCALE:GREGORIAN
BEGIN:VEVENT
DTSTART:20210506T140000Z
DTEND:20210506T150000Z
X-MICROSOFT-CDO-ALLDAYEVENT:FALSE
SUMMARY:Global Executive Forum: Opportunities in Hong Kong and Asia
DESCRIPTION:Please join the World Trade Center Kentucky and the Hong Kong Trade Development Council (HKTDC) for the next Global Executive Forum\, Opportunities in Hong Kong and Asia.  The United States is a major trading partner to Hong Kong.  In 2019\, the United States exported $30.78 billion in goods to Hong Kong\, much of which was transshipped to mainland China and other regional markets. Hong Kong ranked 12th in exports from Kentucky in 2020 with $499M. The top export categories from the U.S. to Hong Kong include electrical machinery\, precious metal and stone\, art and antiques\, machinery\, and agricultural products\n\n \n\nHong Kong is a dynamic export market for U.S. agricultural products. Total U.S. agricultural exports reached US$3.1 billion in 2019\, making Hong Kong the 9th-largest market for U.S. food and agricultural exports. For U.S. consumer-oriented exports\, Hong Kong ranked 6th in 2019\, with exports reaching US$2.8 billion. Hong Kong consumers are willing and able to pay for higher-quality goods.\n\n \n\nPlease join the World Trade Center Kentucky and the Hong Kong Trade Development Council (HKTDC) for an engaging look at the Hong Kong and Asia market for Kentucky companies.  Kentucky Commissioner of Agriculture Ryan Quarles will kick off this event with an introduction to the importance of Hong Kong and Asia to Kentucky's agricultural markets.  Next\, the HKTDC will lead us through an exploration of Hong Kong and Asia markets\, the business opportunities these markets represent\, and their new B2B virtual service.  We will wrap up with the story of Alltech Asia and a look at the policy future for the region given the new 5 year plan from China.  If your company is involved in or exploring exporting to Asia\, attend this program to learn more and build new relationships.\n\n \n\nPanelists and Moderator for this event:\n\n	Kentucky Commissioner of Agriculture Ryan Quarles (BIO)\n	Bridget Lee\, Director\, Chicago Hong Kong Trade Development Council (BIO)\n	Jonathan Forrest Wilson\, President of Asia\, Alltech Inc. (BIO)\n	MODERATOR: Tony Richards\, Executive in Residence\, World Trade Center Kentucky
X-ALT-DESC;FMTTYPE=text/html:Please join the World Trade Center Kentucky and the Hong Kong Trade Development Council (HKTDC) for the next Global Executive Forum\, Opportunities in Hong Kong and Asia.&nbsp\; The United States is a major trading partner to Hong Kong.&nbsp\; In 2019\, the United States exported $30.78 billion in goods to Hong Kong\, much of which was transshipped to mainland China and other regional markets.&nbsp\;Hong Kong ranked 12th in exports from Kentucky in 2020 with $499M. The top export categories from the U.S. to Hong Kong include electrical machinery\, precious metal and stone\, art and antiques\, machinery\, and agricultural products<br />\n&nbsp\;<br />\nHong Kong is a dynamic export market for U.S. agricultural products. Total U.S. agricultural exports reached US$3.1 billion in 2019\, making Hong Kong the 9th-largest market for U.S. food and agricultural exports. For U.S. consumer-oriented exports\, Hong Kong ranked 6th in 2019\, with exports reaching US$2.8 billion. Hong Kong consumers are willing and able to pay for higher-quality goods.<br />\n&nbsp\;<br />\nPlease join the World Trade Center Kentucky and the Hong Kong Trade Development Council (HKTDC) for an engaging look at the Hong Kong and Asia market for Kentucky companies.&nbsp\; Kentucky Commissioner of Agriculture Ryan Quarles will kick off this event with an introduction to the importance of Hong Kong and Asia to Kentucky&#39\;s agricultural markets.&nbsp\; Next\, the HKTDC will lead us through an exploration of Hong Kong and Asia markets\, the business opportunities these markets represent\, and their new B2B virtual service.&nbsp\; We will wrap up with the story of Alltech Asia and a look at the policy future for the region given the new 5 year plan from China.&nbsp\; If your company is involved in or exploring exporting to Asia\, attend this program to learn more and build new relationships.<br />\n&nbsp\;<br />\nPanelists and Moderator for this event:\n<ul>\n	<li>Kentucky Commissioner of Agriculture Ryan Quarles (<a href="https://www.kyagr.com/commissioner/" target="_blank">BIO</a>)</li>\n	<li>Bridget&nbsp\;Lee\, Director\, Chicago Hong Kong Trade Development Council (<a href="https://chambermaster.blob.core.windows.net/userfiles/UserFiles/chambers/9258/File/Bios/BridgetLee_HKTDC_BIO_DirectorChicago.pdf" target="_blank">BIO</a>)</li>\n	<li>Jonathan Forrest Wilson\, President of Asia\, Alltech Inc. (<a href="https://chambermaster.blob.core.windows.net/userfiles/UserFiles/chambers/9258/File/Bios/JonathanForrestWilson_bio.pdf" target="_blank">BIO</a>)</li>\n	<li>MODERATOR: Tony Richards\, Executive in Residence\, World Trade Center Kentucky</li>\n</ul>\n
LOCATION:Virtual Conference Log in details will be provided after registration
UID:e.9258.905
SEQUENCE:3
DTSTAMP:20260424T001007Z
URL:https://business.wtcky.org/events/details/global-executive-forum-opportunities-in-hong-kong-and-asia-905
END:VEVENT

END:VCALENDAR
