BEGIN:VCALENDAR
VERSION:2.0
PRODID:-//ChamberMaster//Event Calendar 2.0//EN
METHOD:PUBLISH
X-PUBLISHED-TTL:P3D
REFRESH-INTERVAL:P3D
CALSCALE:GREGORIAN
BEGIN:VEVENT
DTSTART:20200610T180000Z
DTEND:20200610T190000Z
X-MICROSOFT-CDO-ALLDAYEVENT:FALSE
SUMMARY:Five Steps to Digital Strategy hosted by US Commercial Service
DESCRIPTION:Organized by the U.S. Commercial Service eCommerce Innovation Lab\, this three-part series will feature ways to increase your competitiveness in overseas markets by transitioning your website to support online sales channels. Global cross-border eCommerce sales alone total some $2 trillion annually and are expected to exceed $6 trillion by 2021. Are you ready to take advantage of growing international selling opportunities. \n\n \nSession 1: Five Steps of a Digital Strategy\nJoin commercial experts  to learn how to develop a digital strategy that addresses the basic needs required to succeed in cross-border eCommerce sales channels. This webinar will cover the five steps to a digital strategy and how to keep you ahead of the curve in a 21st century digital economy. \n\n\n	Learn how to position your company for long term success and increase your competitiveness in overseas markets in the online virtual environment.\n	Utilize tools and resources to support your company's digital transformation for overseas sales through the eCommerce sales channels.
X-ALT-DESC;FMTTYPE=text/html:<span style="color:black\;"><span style="font-family:helvetica\,sans-serif\;"><span style="font-size:11.5pt\;">Organized by the U.S. Commercial Service eCommerce Innovation Lab\, this three-part series will feature ways to increase your competitiveness in overseas markets by transitioning your website to support online sales channels. Global cross-border eCommerce sales alone total some $2 trillion annually and are expected to exceed $6 trillion by 2021. Are you ready to take advantage of growing international selling opportunities.&nbsp\;</span></span></span><br />\n&nbsp\;\n<h1 style="margin-top:0in\;margin-right:0in\;margin-bottom:15.0pt\;margin-left:0in\;"><span style="color:#1F16E4\;"><span style="font-family:helvetica\,sans-serif\;"><span style="font-size:13.0pt\;"><a href="https://lnks.gd/l/eyJhbGciOiJIUzI1NiJ9.eyJidWxsZXRpbl9saW5rX2lkIjoxMDMsInVyaSI6ImJwMjpjbGljayIsImJ1bGxldGluX2lkIjoiMjAyMDA2MDQuMjI0NDQ5NDEiLCJ1cmwiOiJodHRwczovL2VtZW51YXBwcy5pdGEuZG9jLmdvdi9lUHVibGljL2V2ZW50L2VkaXRXZWJSZWcuZG8_U21hcnRDb2RlPTBRSzgifQ.OLxamh9wDj0UwYq0Lx_07TLLcCTTFwv3mgwZ3w4_rG4/br/79457525282-l" style="-webkit-text-size-adjust:100%\;-ms-text-size-adjust:100%\;" target="_blank"><span style="color:#1F16E4\;">Session 1: Five Steps of a Digital Strategy</span></a></span></span></span></h1>\n<span style="color:black\;"><span style="font-family:helvetica\,sans-serif\;"><span style="font-size:11.5pt\;">Join commercial experts &nbsp\;to learn how to develop a digital strategy that addresses the basic needs required to succeed in cross-border eCommerce sales channels. This webinar will cover the five steps to a digital strategy and how to keep you ahead of the curve in a 21st century digital economy.&nbsp\;</span></span></span>\n\n<ul>\n	<li style="color:black\;margin-bottom:11.25pt\;-webkit-text-size-adjust:100%\;-ms-text-size-adjust:100%\;"><span style="font-family:helvetica\,sans-serif\;"><span style="font-size:11.5pt\;">Learn how to position your company for long term success and increase your competitiveness in overseas markets in the online virtual environment.</span></span></li>\n	<li style="color:black\;margin-bottom:11.25pt\;-webkit-text-size-adjust:100%\;-ms-text-size-adjust:100%\;"><span style="font-family:helvetica\,sans-serif\;"><span style="font-size:11.5pt\;">Utilize tools and resources to support your company&rsquo\;s digital transformation for overseas sales through the eCommerce sales channels.</span></span></li>\n</ul>\n
LOCATION:WebEx online conference and audio call Click here to register
UID:e.9258.816
SEQUENCE:3
DTSTAMP:20260424T202206Z
URL:https://business.wtcky.org/events/details/five-steps-to-digital-strategy-hosted-by-us-commercial-service-816
END:VEVENT

END:VCALENDAR
