BEGIN:VCALENDAR
VERSION:2.0
PRODID:-//ChamberMaster//Event Calendar 2.0//EN
METHOD:PUBLISH
X-PUBLISHED-TTL:P3D
REFRESH-INTERVAL:P3D
CALSCALE:GREGORIAN
BEGIN:VEVENT
DTSTART:20200721T170000Z
DTEND:20200721T180000Z
X-MICROSOFT-CDO-ALLDAYEVENT:FALSE
SUMMARY:Expanding into the Caribbean
DESCRIPTION:Are you looking to diversify your export market? Have you considered expanding into the Caribbean region? The Caribbean region is the United States' 2nd largest export market south of the U.S. border\, only second to Mexico. Caribbean countries purchase over $21 billion worth of American products and services annually. The Caribbean region is a natural commercial partner of the United States\, tied closely by geography\, history and culture. There is a huge demand for U.S.-made products in the region.\n\n \n\n"Expanding into the Caribbean" \n\n\n\nThe U.S. Commercial Service's South Georgia U.S. Export Assistance Center Director Todd Gerken will help you identify opportunities and key strategies for expanding your business through the Caribbean.
X-ALT-DESC;FMTTYPE=text/html:Are you looking to diversify your export market? Have you considered expanding into the Caribbean region? The Caribbean region is the United States&#39\; 2nd largest export market south of the U.S. border\, only second to Mexico. Caribbean countries purchase over $21 billion worth of American products and services annually. The Caribbean region is a natural commercial partner of the United States\, tied closely by geography\, history and culture. There is a huge demand for U.S.-made products in the region.<br />\n&nbsp\;<br />\n<span style="font-family:calibri\,sans-serif\;"><span style="font-size:11.0pt\;">&ldquo\;Expanding into the Caribbean&rdquo\;&nbsp\;</span></span><br />\n<br />\nThe U.S. Commercial Service&#39\;s South Georgia U.S. Export Assistance Center Director Todd Gerken will help you identify opportunities and key strategies for expanding your business through the Caribbean.
LOCATION:Webinar
UID:e.9258.824
SEQUENCE:3
DTSTAMP:20260424T191203Z
URL:https://business.wtcky.org/events/details/expanding-into-the-caribbean-824
END:VEVENT

END:VCALENDAR
