BEGIN:VCALENDAR
VERSION:2.0
PRODID:-//ChamberMaster//Event Calendar 2.0//EN
METHOD:PUBLISH
X-PUBLISHED-TTL:P3D
REFRESH-INTERVAL:P3D
CALSCALE:GREGORIAN
BEGIN:VEVENT
DTSTART:20210225T150000Z
DTEND:20210225T160000Z
X-MICROSOFT-CDO-ALLDAYEVENT:FALSE
SUMMARY:Doing Business with the UK - Hosted by World Trade Center of Kansas City
DESCRIPTION:On Thursday\, February 25th from 9:00-10:00 AM CT we are partnering with the World Trade Center Kansas City and the US Commercial Service Kansas City to host a Doing Business with the UK webinar featuring:\n\n \n\n-          Alan Gogbashian\, Consul General \, British Consulate General in Chicago\n\n-          Frances Moffett-Kouadio\, Director Exports North America\, British Consulate-General\n\n-          Mitch Larsen\, Executive Director\, Europe\, US Department of Commerce\n\n-          James Lindley\, Commercial Counselor\, US Embassy in London\n\n-          Tom Jones\, Project Architect\, Tottenham Hotspur Stadium\, Populous\n\n\n\nThis program will provide up-to-date perspectives on the U.K. for U.S. exporters\, the Brexit process\, and how the U.S. industry has approached this market.  To provide timely market information to an audience of U.S. exporters seeking insights into doing business with the U.K. \n\n	U.S. government officials in Washington and London will share timely market information\, including top opportunities for U.S. firms and the impact of Brexit.\n	U.K. government officials from the Consulate General in Chicago will provide their perspective on what U.S. firms need to know when doing business with the U.K.\n	Kansas City-based Populous will share insights into their recent work in the UK as lead designer of a major sports stadium and how they adapted to COVID.
X-ALT-DESC;FMTTYPE=text/html:On&nbsp\;<strong>Thursday\,</strong>&nbsp\;<strong>February 25<sup>th</sup>&nbsp\;from 9:00-10:00 AM CT</strong>&nbsp\;we are partnering with the World Trade Center Kansas City and the US Commercial Service Kansas City to host a&nbsp\;<strong><span style="color: rgb(192\, 0\, 0)\;">Doing Business with the UK</span></strong>&nbsp\;webinar featuring:<br />\n&nbsp\;<br />\n-&nbsp\;&nbsp\;&nbsp\;&nbsp\;&nbsp\;&nbsp\;&nbsp\;&nbsp\;&nbsp\;&nbsp\;<strong>Alan Gogbashian</strong>\, Consul General \, British Consulate General in Chicago<br />\n-&nbsp\;&nbsp\;&nbsp\;&nbsp\;&nbsp\;&nbsp\;&nbsp\;&nbsp\;&nbsp\;&nbsp\;<strong>Frances Moffett-Kouadio</strong>\, Director Exports North America\, British Consulate-General<br />\n-&nbsp\;&nbsp\;&nbsp\;&nbsp\;&nbsp\;&nbsp\;&nbsp\;&nbsp\;&nbsp\;&nbsp\;<strong>Mitch Larsen</strong>\, Executive Director\, Europe\, US Department of Commerce<br />\n-&nbsp\;&nbsp\;&nbsp\;&nbsp\;&nbsp\;&nbsp\;&nbsp\;&nbsp\;&nbsp\;&nbsp\;<strong>James Lindley</strong>\, Commercial Counselor\, US Embassy in London<br />\n-&nbsp\;&nbsp\;&nbsp\;&nbsp\;&nbsp\;&nbsp\;&nbsp\;&nbsp\;&nbsp\;&nbsp\;<strong>Tom Jones</strong>\, Project Architect\, Tottenham Hotspur Stadium\, Populous<br />\n<br />\n<span style="caret-color: rgb(0\, 0\, 0)\; color: rgb(0\, 0\, 0)\; font-family: Arial\; font-size: 13.333333015441895px\;">This program will provide up-to-date perspectives on the U.K. for U.S. exporters\, the Brexit process\, and how the U.S. industry has approached this market.&nbsp\;&nbsp\;To provide timely market information to an audience of U.S. exporters seeking insights into doing business with the U.K.&nbsp\;</span>\n<ul style="caret-color: rgb(0\, 0\, 0)\; color: rgb(0\, 0\, 0)\; font-family: Arial\; font-size: 13.333333015441895px\;">\n	<li class="bullets" style="padding-left: 10px\; margin-bottom: 10px\; list-style-position: outside\;">U.S. government officials in Washington and London will share timely market information\, including top opportunities for U.S. firms and the impact of Brexit.</li>\n	<li class="bullets" style="padding-left: 10px\; margin-bottom: 10px\; list-style-position: outside\;">U.K. government officials from the Consulate General in Chicago will provide their perspective on what U.S. firms need to know when doing business with the U.K.</li>\n	<li class="bullets" style="padding-left: 10px\; margin-bottom: 10px\; list-style-position: outside\;">Kansas City-based Populous will share insights into their recent work in the UK as lead designer of a major sports stadium and how they adapted to COVID.</li>\n</ul>\n
LOCATION:Webinar Register Here
UID:e.9258.873
SEQUENCE:3
DTSTAMP:20260424T044545Z
URL:https://business.wtcky.org/events/details/doing-business-with-the-uk-hosted-by-world-trade-center-of-kansas-city-873
END:VEVENT

END:VCALENDAR
