BEGIN:VCALENDAR
VERSION:2.0
PRODID:-//ChamberMaster//Event Calendar 2.0//EN
METHOD:PUBLISH
X-PUBLISHED-TTL:P3D
REFRESH-INTERVAL:P3D
CALSCALE:GREGORIAN
BEGIN:VEVENT
DTSTART:20210413T170000Z
DTEND:20210413T180000Z
X-MICROSOFT-CDO-ALLDAYEVENT:FALSE
SUMMARY:Doing Business in Uruguay - Hosted by US Commercial Service
DESCRIPTION:This webinar will orient U.S firms to opportunities in Uruguay's ICT\, infrastructure\, energy\, and agribusiness sectors. Local sector experts will present market overviews\, challenges\, and opportunities for U.S. companies in Uruguay.\n\n \n\n\n	Uruguay's ICT sector is one of the most developed in Latin America with an internet penetration rate of over 90 percent.\n	Uruguay generates nearly 100% of its electricity from renewable sources. Over $126 million in tenders exist for hydropower renovation projects.\n	Uruguay is also part of one of the most water-rich agricultural regions in the world making Uruguay an important commodity exporter.\n	Through Uruguay's physical infrastructure\, the legal system\, and Free Trade Zones\, companies located in Uruguay can service the entire region.
X-ALT-DESC;FMTTYPE=text/html:<p style="margin: 0px\; font-stretch: normal\; line-height: normal\; font-family: Helvetica\; color: rgb(38\, 38\, 38)\;">This webinar will orient U.S firms to opportunities in Uruguay&rsquo\;s ICT\, infrastructure\, energy\, and agribusiness sectors. Local sector experts will present market overviews\, challenges\, and opportunities for U.S. companies in Uruguay.</p>\n\n<p style="margin: 0px\; font-stretch: normal\; line-height: normal\; font-family: Helvetica\; color: rgb(38\, 38\, 38)\; min-height: 16px\;">&nbsp\;</p>\n\n<ul>\n	<li style="margin: 0px\; font-stretch: normal\; font-size: 13.3px\; line-height: normal\; font-family: Arial\; color: rgb(0\, 0\, 0)\;">Uruguay&#39\;s ICT sector is one of the most developed in Latin America with an internet penetration rate of over 90 percent.</li>\n	<li style="margin: 0px\; font-stretch: normal\; font-size: 13.3px\; line-height: normal\; font-family: Arial\; color: rgb(0\, 0\, 0)\;">Uruguay generates nearly 100% of its electricity from renewable sources. Over $126 million in tenders exist for hydropower renovation projects.</li>\n	<li style="margin: 0px\; font-stretch: normal\; font-size: 13.3px\; line-height: normal\; font-family: Arial\; color: rgb(0\, 0\, 0)\;">Uruguay is also part of one of the most water-rich agricultural regions in the world making Uruguay an important commodity exporter.</li>\n	<li style="margin: 0px\; font-stretch: normal\; font-size: 13.3px\; line-height: normal\; font-family: Arial\; color: rgb(0\, 0\, 0)\;">Through Uruguay&rsquo\;s physical infrastructure\, the legal system\, and Free Trade Zones\, companies located in Uruguay can service the entire region.</li>\n</ul>\n
LOCATION:Webinar Register here!
UID:e.9258.878
SEQUENCE:3
DTSTAMP:20260424T015513Z
URL:https://business.wtcky.org/events/details/doing-business-in-uruguay-hosted-by-us-commercial-service-878
END:VEVENT

END:VCALENDAR
