BEGIN:VCALENDAR
VERSION:2.0
PRODID:-//ChamberMaster//Event Calendar 2.0//EN
METHOD:PUBLISH
X-PUBLISHED-TTL:P3D
REFRESH-INTERVAL:P3D
CALSCALE:GREGORIAN
BEGIN:VEVENT
DTSTART:20210623T170000Z
DTEND:20210623T180000Z
X-MICROSOFT-CDO-ALLDAYEVENT:FALSE
SUMMARY:Doing Business in Suriname - Hosted by US Commercial Service
DESCRIPTION:Suriname's government is looking to increase commercial ties between U.S. and Surinamese companies and has begun to make more infrastructure projects available to outside bidders. \n\n\n\nLearn about business opportunities in various sectors\, reasons to consider doing business in Suriname\, and the U.S. Government resources available to support your company in the market.\n\n \n\n\n	Suriname has undergone a goldrush in recent years and is on the cusp of a potential offshore oil boom with four strikes in the past year\, involving U.S. energy\n	The United States is already Suriname's top import partner. Some 31% of Suriname's imports come from U.S. companies.\n	Suriname imports poultry\, chemicals\, petroleum products\, electronics supplies\, excavating machinery\, materials handling equipment\, and industrial machines.\n	Suriname is among the most diverse countries in the hemisphere\, with a long tradition of ethnic and religious tolerance.
X-ALT-DESC;FMTTYPE=text/html:<p style="margin: 0px\; font-stretch: normal\; line-height: normal\; font-family: Helvetica\; color: rgb(38\, 38\, 38)\;">Suriname&rsquo\;s government is looking to increase commercial ties between U.S. and Surinamese companies and has begun to make more infrastructure projects available to outside bidders.&nbsp\;<br />\n<br />\nLearn about business opportunities in various sectors\, reasons to consider doing business in Suriname\, and the U.S. Government resources available to support your company in the market.</p>\n\n<p style="margin: 0px\; font-stretch: normal\; font-size: 13.3px\; line-height: normal\; font-family: Arial\; color: rgb(0\, 0\, 0)\; min-height: 15px\;">&nbsp\;</p>\n\n<ul>\n	<li style="margin: 0px\; font-stretch: normal\; font-size: 13.3px\; line-height: normal\; font-family: Arial\; color: rgb(0\, 0\, 0)\;">Suriname has undergone a goldrush in recent years and is on the cusp of a potential offshore oil boom with four strikes in the past year\, involving U.S. energy</li>\n	<li style="margin: 0px\; font-stretch: normal\; font-size: 13.3px\; line-height: normal\; font-family: Arial\; color: rgb(0\, 0\, 0)\;">The United States is already Suriname&rsquo\;s top import partner. Some 31% of Suriname&rsquo\;s imports come from U.S. companies.</li>\n	<li style="margin: 0px\; font-stretch: normal\; font-size: 13.3px\; line-height: normal\; font-family: Arial\; color: rgb(0\, 0\, 0)\;">Suriname imports poultry\, chemicals\, petroleum products\, electronics supplies\, excavating machinery\, materials handling equipment\, and industrial machines.</li>\n	<li style="margin: 0px\; font-stretch: normal\; font-size: 13.3px\; line-height: normal\; font-family: Arial\; color: rgb(0\, 0\, 0)\;">Suriname is among the most diverse countries in the hemisphere\, with a long tradition of ethnic and religious tolerance.</li>\n</ul>\n
LOCATION:Webinar Register here!
UID:e.9258.883
SEQUENCE:3
DTSTAMP:20260423T221334Z
URL:https://business.wtcky.org/events/details/doing-business-in-suriname-hosted-by-us-commercial-service-883
END:VEVENT

END:VCALENDAR
