BEGIN:VCALENDAR
VERSION:2.0
PRODID:-//ChamberMaster//Event Calendar 2.0//EN
METHOD:PUBLISH
X-PUBLISHED-TTL:P3D
REFRESH-INTERVAL:P3D
CALSCALE:GREGORIAN
BEGIN:VEVENT
DTSTART:20210526T170000Z
DTEND:20210526T180000Z
X-MICROSOFT-CDO-ALLDAYEVENT:FALSE
SUMMARY:Doing Business in Paraguay - Hosted by US Commercial Service
DESCRIPTION:One of the fastest-growing Latin American economies\, Paraguay offers an export market and attractive investment incentives for manufacturing operations and the lowest factor costs in the region.\n\n \n\nLearn about business opportunities in various sectors\, reasons to consider doing business in Paraguay\, and the U.S. Government resources available to support your company in the market.\n\n \n\n\n	Although Paraguay does not have a free trade agreement with the United States\, in 2019 trade of goods between the United States and Paraguay totaled $2.1B.\n	Paraguay has significant cost advantages\, which provide attractive conditions for international investors and regional companies.\n	Projected infrastructure projects will require new or used heavy machinery\, as well as engineering\, project management consulting\, and financial services.\n	The agriculture industry presents opportunities for animal genetics\, fertilizers\, pest control\, farm equipment\, and processing machinery.
X-ALT-DESC;FMTTYPE=text/html:<p style="margin: 0px\; font-stretch: normal\; line-height: normal\; font-family: Helvetica\; color: rgb(38\, 38\, 38)\;">One of the fastest-growing Latin American economies\, Paraguay offers an export market and attractive investment incentives for manufacturing operations and the lowest factor costs in the region.</p>\n\n<p style="margin: 0px\; font-stretch: normal\; line-height: normal\; font-family: Helvetica\; color: rgb(38\, 38\, 38)\; min-height: 16px\;">&nbsp\;</p>\n\n<p style="margin: 0px\; font-stretch: normal\; font-size: 13.3px\; line-height: normal\; font-family: Arial\; color: rgb(0\, 0\, 0)\;">Learn about business opportunities in various sectors\, reasons to consider doing business in Paraguay\, and the U.S. Government resources available to support your company in the market.</p>\n\n<p style="margin: 0px\; font-stretch: normal\; font-size: 13.3px\; line-height: normal\; font-family: Arial\; color: rgb(0\, 0\, 0)\; min-height: 15px\;">&nbsp\;</p>\n\n<ul>\n	<li style="margin: 0px\; font-stretch: normal\; font-size: 13.3px\; line-height: normal\; font-family: Arial\; color: rgb(0\, 0\, 0)\;">Although Paraguay does not have a free trade agreement with the United States\, in 2019 trade of goods between the United States and Paraguay totaled $2.1B.</li>\n	<li style="margin: 0px\; font-stretch: normal\; font-size: 13.3px\; line-height: normal\; font-family: Arial\; color: rgb(0\, 0\, 0)\;">Paraguay has significant cost advantages\, which provide attractive conditions for international investors and regional companies.</li>\n	<li style="margin: 0px\; font-stretch: normal\; font-size: 13.3px\; line-height: normal\; font-family: Arial\; color: rgb(0\, 0\, 0)\;">Projected infrastructure projects will require new or used heavy machinery\, as well as engineering\, project management consulting\, and financial services.</li>\n	<li style="margin: 0px\; font-stretch: normal\; font-size: 13.3px\; line-height: normal\; font-family: Arial\; color: rgb(0\, 0\, 0)\;">The agriculture industry presents opportunities for animal genetics\, fertilizers\, pest control\, farm equipment\, and processing machinery.</li>\n</ul>\n
LOCATION:Webinar Register here!
UID:e.9258.881
SEQUENCE:3
DTSTAMP:20260424T000543Z
URL:https://business.wtcky.org/events/details/doing-business-in-paraguay-hosted-by-us-commercial-service-881
END:VEVENT

END:VCALENDAR
