BEGIN:VCALENDAR
VERSION:2.0
PRODID:-//ChamberMaster//Event Calendar 2.0//EN
METHOD:PUBLISH
X-PUBLISHED-TTL:P3D
REFRESH-INTERVAL:P3D
CALSCALE:GREGORIAN
BEGIN:VEVENT
DTSTART:20210720T170000Z
DTEND:20210720T180000Z
X-MICROSOFT-CDO-ALLDAYEVENT:FALSE
SUMMARY:Doing Business in Guyana - Hosted by US Commercial Service
DESCRIPTION:On the Atlantic coast and bordering Brazil\, the Government of Guyana (GoG) envisions becoming a regional transportation hub and a gateway to South America with plans to build and modernize the airports\, roads\, bridges\, and ports. Learn about business opportunities in various sectors\, reasons to consider doing business in Guyana\, and the U.S. Government resources available to support your company in the market.\n\n \n\n\n	In 2015\, ExxonMobil announced the discovery of oil in commercial quantities and the country began producing oil at the end of 2019.\n	The GoG seeks to develop markets for agricultural products\, build manufacturing capabilities and modernize information and communication systems.\n	Significant opportunities lie in reducing energy costs\, currently at $0.32 per kWh to consumers.\n	Endowed with plentiful water\, precious metals\, and pristine forests\, Guyana was voted the world's #1 eco-tourism destination in 2020.
X-ALT-DESC;FMTTYPE=text/html:<p style="margin: 0px\; font-stretch: normal\; font-size: 13.3px\; line-height: normal\; font-family: Arial\; color: rgb(0\, 0\, 0)\;">On the Atlantic coast and bordering Brazil\, the Government of Guyana (GoG) envisions becoming a regional transportation hub and a gateway to South America with plans to build and modernize the airports\, roads\, bridges\,&nbsp\;and ports.&nbsp\;Learn about business opportunities in various sectors\, reasons to consider doing business in Guyana\, and the U.S. Government resources available to support your company in the market.</p>\n\n<p style="margin: 0px\; font-stretch: normal\; font-size: 13.3px\; line-height: normal\; font-family: Arial\; color: rgb(0\, 0\, 0)\; min-height: 15px\;">&nbsp\;</p>\n\n<ul>\n	<li style="margin: 0px\; font-stretch: normal\; font-size: 13.3px\; line-height: normal\; font-family: Arial\; color: rgb(0\, 0\, 0)\;">In 2015\, ExxonMobil announced the discovery of oil in commercial quantities and the country began producing oil at the end of 2019.</li>\n	<li style="margin: 0px\; font-stretch: normal\; font-size: 13.3px\; line-height: normal\; font-family: Arial\; color: rgb(0\, 0\, 0)\;">The GoG seeks to develop markets for agricultural products\, build manufacturing capabilities and modernize information and communication systems.</li>\n	<li style="margin: 0px\; font-stretch: normal\; font-size: 13.3px\; line-height: normal\; font-family: Arial\; color: rgb(0\, 0\, 0)\;">Significant opportunities lie in reducing energy costs\, currently at $0.32 per kWh to consumers.</li>\n	<li style="margin: 0px\; font-stretch: normal\; font-size: 13.3px\; line-height: normal\; font-family: Arial\; color: rgb(0\, 0\, 0)\;">Endowed with plentiful water\, precious metals\, and pristine forests\, Guyana was voted the world&rsquo\;s #1 eco-tourism destination in 2020.</li>\n</ul>\n\n<p style="margin: 0px\; font-stretch: normal\; font-size: 13.3px\; line-height: normal\; font-family: Arial\; color: rgb(0\, 0\, 0)\; min-height: 15px\;">&nbsp\;</p>\n\n<p style="margin: 0px 0px 0px 36px\; text-indent: -36px\; font-stretch: normal\; font-size: 13.3px\; line-height: normal\; font-family: Arial\; color: rgb(0\, 0\, 0)\; min-height: 15px\;">&nbsp\;</p>\n
LOCATION:Webinar Register here!
UID:e.9258.884
SEQUENCE:3
DTSTAMP:20260423T202934Z
URL:https://business.wtcky.org/events/details/doing-business-in-guyana-hosted-by-us-commercial-service-884
END:VEVENT

END:VCALENDAR
