BEGIN:VCALENDAR
VERSION:2.0
PRODID:-//ChamberMaster//Event Calendar 2.0//EN
METHOD:PUBLISH
X-PUBLISHED-TTL:P3D
REFRESH-INTERVAL:P3D
CALSCALE:GREGORIAN
BEGIN:VEVENT
DTSTART:20200923T170000Z
DTEND:20200923T180000Z
X-MICROSOFT-CDO-ALLDAYEVENT:FALSE
SUMMARY:Connecting Kentucky Across Continents - KY Dept of Agriculture
DESCRIPTION:Register for this free webinar to learn about the international marketing opportunities available to Kentucky food/beverage/horticulture and other agriculture companies that want to expand internationally. The Southern United States Trade Association (SUSTA) and the Kentucky Department of Agriculture are here to support Kentucky exporters.\n\n			\n\n			The Kentucky Department of Agriculture is a proud member of the Southern U.S. Trade Association. Join us to see if your firm can benefit from USDA export assistance programs and other services provided by KDA and SUSTA. You will also hear from the Hong Kong Trade Development Center about opportunities in Hong Kong.\n		\n	\n\n\n\nCLICK HERE TO REGISTER
X-ALT-DESC;FMTTYPE=text/html:<table border="0" cellpadding="0" cellspacing="0" style="width:100.0%\;" width="100%">\n	<tbody>\n		<tr>\n			<td style="padding:3.75pt 3.75pt 3.75pt 3.75pt\;vertical-align:top\;"><span style="color:#333333\;"><span style="font-family:arial\,sans-serif\;"><span style="font-size:10.5pt\;">Register for this free webinar to learn about the international marketing opportunities available to Kentucky food/beverage/horticulture and other agriculture companies that want to expand internationally. The Southern United States Trade Association (SUSTA) and the Kentucky Department of Agriculture are here to support Kentucky exporters.</span></span></span><br />\n			<br />\n			<span style="font-size:9px\;"><em><span style="font-family: Arial\, sans-serif\;">The Kentucky Department of Agriculture is a proud member of the Southern U.S. Trade Association. Join us to see if your firm can benefit from USDA export assistance programs and other services provided by KDA and SUSTA. You will also hear from the Hong Kong Trade Development Center about opportunities in Hong Kong.</span></em></span></td>\n		</tr>\n	</tbody>\n</table>\n<br />\n<a href="https://us02web.zoom.us/webinar/register/WN_vyq5O8A6Q2ir1AsOvefb4A" target="_blank"><span style="font-size:16px\;"><em><strong>CLICK HERE TO REGISTER</strong></em></span></a>
LOCATION:
UID:e.9258.859
SEQUENCE:3
DTSTAMP:20260424T182227Z
URL:https://business.wtcky.org/events/details/connecting-kentucky-across-continents-ky-dept-of-agriculture-859
END:VEVENT

END:VCALENDAR
