BEGIN:VCALENDAR
VERSION:2.0
PRODID:-//ChamberMaster//Event Calendar 2.0//EN
METHOD:PUBLISH
X-PUBLISHED-TTL:P3D
REFRESH-INTERVAL:P3D
CALSCALE:GREGORIAN
BEGIN:VEVENT
DTSTART:20210520T170000Z
DTEND:20210520T190000Z
X-MICROSOFT-CDO-ALLDAYEVENT:FALSE
SUMMARY:Answers in Trade: Setting up Foreign Distributors
DESCRIPTION:The world of international business is complex\, and properly structuring distributor agreements can build successful overseas operations. Join the World Trade Center Kentucky and the Zoeller Company as we break down distributor agreements and explore how to set them up\, foreign country restrictions\, and legal structure.  \n\n\n\nThis program will cover the following points:\n\n\n	How to properly set up distributor agreements\n	Foreign country requirements in establishing distributors\n	When and how to work with legal counsel\n	Dispute resolution\n\nPresenters:\n\nJason Nett\, Corporate International Sales & Marketing Manager\, Zoeller Company\n\nJeffery Langer\, General Counsel\, Zoeller Company\n\nZoeller Company was founded in 1939 as a family-owned operation making various products\, one of which was a dependable column sump pump. Zoeller products are sold throughout the United States\, Canada and Mexico as well as around the world.\n\n\n\nAbout Answers in Trade:\n\nThe course is thoughtfully chosen and developed in response to requests from our international business partners\, and individuals seeking strong practical and theoretical knowledge of a wide array of tactical subjects surrounding the successful execution of global commerce.\n\n\n\nThis program is sponsored by FedEx\n\n\n\n*This program is an approved STEP Grant reimbursement.  If you have not applied for the STEP (State Trade and Export Promotion)\, please visit www.kyexports.com for more information.
X-ALT-DESC;FMTTYPE=text/html:<p><span style="color:#000000\;">The world of international business is complex\, and properly structuring distributor agreements can build successful overseas operations. Join the World Trade Center Kentucky and the Zoeller Company as we break down distributor agreements and explore how to set them up\, foreign country restrictions\, and legal structure.&nbsp\;&nbsp\;</span><br />\n<br />\n<strong><em><span style="color:#000000\;"><u>This program will cover the following points:</u></span></em></strong></p>\n\n<ul>\n	<li><strong><em><span style="color:#000000\;">How to properly set up distributor agreements</span></em></strong></li>\n	<li><strong><em><span style="color:#000000\;">Foreign country requirements in establishing distributors</span></em></strong></li>\n	<li><strong><em><span style="color:#000000\;">When and how to work with legal counsel</span></em></strong></li>\n	<li><strong><em><span style="color:#000000\;">Dispute resolution</span></em></strong></li>\n</ul>\n<span style="font-family:arial\;"><em><strong><span style="color:#000000\;"><u>Presenters:</u><br />\nJason Nett\, Corporate International Sales &amp\; Marketing Manager\, Zoeller Company<br />\nJeffery Langer\, General Counsel\, Zoeller Company</span></strong></em></span><br />\n<span style="color:#000000\;">Zoeller Company was founded in 1939 as a family-owned operation making various products\, one of which was a dependable column sump pump. Zoeller products are sold throughout the United States\, Canada and Mexico as well as around the world.</span><br />\n<br />\n<span style="font-family:arial\;"><span style="color:#000000\;"><u>About Answers in Trade:</u><br />\nThe course is thoughtfully chosen and developed in response to requests from our international business partners\, and individuals seeking strong practical and theoretical knowledge of a wide array of tactical subjects surrounding the successful execution of global commerce.</span><br />\n<br />\n<span style="color:#000000\;">This program is sponsored by FedEx</span></span><br />\n<br />\n<em font-size:="" style="color: rgb(51\, 51\, 51)\; font-family: sans-serif\, Arial\, Verdana\, " trebuchet=""><strong>*This program is an approved STEP Grant reimbursement. &nbsp\;If you have not applied for the STEP (State Trade and Export Promotion)\, please visit www.kyexports.com for more information</strong></em><span background-color:="" font-size:="" style="color: rgb(51\, 51\, 51)\; font-family: sans-serif\, Arial\, Verdana\, " trebuchet="">.</span>
LOCATION:Cisco Webex TRAINING webinar Webex login details are included in registration confirmation email.
UID:e.9258.906
SEQUENCE:3
DTSTAMP:20260424T001720Z
URL:https://business.wtcky.org/events/details/answers-in-trade-setting-up-foreign-distributors-906
END:VEVENT

END:VCALENDAR
